BEGIN:VCALENDAR
VERSION:2.0
PRODID:-//wp-events-plugin.com//7.2.3.1//EN
TZID:Europe/Amsterdam
X-WR-TIMEZONE:Europe/Amsterdam
BEGIN:VEVENT
UID:11@ehbokockengen.nl
DTSTART;TZID=Europe/Amsterdam:20210920T200000
DTEND;TZID=Europe/Amsterdam:20210920T220000
DTSTAMP:20211108T165257Z
URL:https://ehbokockengen.nl/wp/?event=bewustzijnsstoornisssen-stabiele-zi
 jligging-kleine-letsels
SUMMARY:Bewustzijnsstoornisssen\, stabiele zijligging\, kleine letsels
DESCRIPTION:
CATEGORIES:Herhalingslessen EHBO
LOCATION:Brandweerkazerne\, Sportweg 1A\, Kockengen\, 3628 AZ\, Nederland
X-APPLE-STRUCTURED-LOCATION;VALUE=URI;X-ADDRESS=Sportweg 1A\, Kockengen\, 3
 628 AZ\, Nederland;X-APPLE-RADIUS=100;X-TITLE=Brandweerkazerne:geo:0,0
END:VEVENT
BEGIN:VEVENT
UID:12@ehbokockengen.nl
DTSTART;TZID=Europe/Amsterdam:20211004T200000
DTEND;TZID=Europe/Amsterdam:20211004T220000
DTSTAMP:20211108T165142Z
URL:https://ehbokockengen.nl/wp/?event=reanimatie
SUMMARY:Reanimatie
DESCRIPTION:
CATEGORIES:Herhalingslessen EHBO
LOCATION:Brandweerkazerne\, Sportweg 1A\, Kockengen\, 3628 AZ\, Nederland
X-APPLE-STRUCTURED-LOCATION;VALUE=URI;X-ADDRESS=Sportweg 1A\, Kockengen\, 3
 628 AZ\, Nederland;X-APPLE-RADIUS=100;X-TITLE=Brandweerkazerne:geo:0,0
END:VEVENT
BEGIN:VEVENT
UID:13@ehbokockengen.nl
DTSTART;TZID=Europe/Amsterdam:20211018T200000
DTEND;TZID=Europe/Amsterdam:20211018T220000
DTSTAMP:20211108T165341Z
URL:https://ehbokockengen.nl/wp/?event=verbandleer
SUMMARY:Verbandleer
DESCRIPTION:
CATEGORIES:Herhalingslessen EHBO
LOCATION:Brandweerkazerne\, Sportweg 1A\, Kockengen\, 3628 AZ\, Nederland
X-APPLE-STRUCTURED-LOCATION;VALUE=URI;X-ADDRESS=Sportweg 1A\, Kockengen\, 3
 628 AZ\, Nederland;X-APPLE-RADIUS=100;X-TITLE=Brandweerkazerne:geo:0,0
END:VEVENT
BEGIN:VEVENT
UID:14@ehbokockengen.nl
DTSTART;TZID=Europe/Amsterdam:20211101T200000
DTEND;TZID=Europe/Amsterdam:20211101T220000
DTSTAMP:20211108T165437Z
URL:https://ehbokockengen.nl/wp/?event=diagnoseavond-spel
SUMMARY:Diagnoseavond (spel)
DESCRIPTION:
CATEGORIES:Herhalingslessen EHBO
LOCATION:Brandweerkazerne\, Sportweg 1A\, Kockengen\, 3628 AZ\, Nederland
X-APPLE-STRUCTURED-LOCATION;VALUE=URI;X-ADDRESS=Sportweg 1A\, Kockengen\, 3
 628 AZ\, Nederland;X-APPLE-RADIUS=100;X-TITLE=Brandweerkazerne:geo:0,0
END:VEVENT
BEGIN:VEVENT
UID:1@ehbokockengen.nl
DTSTART;TZID=Europe/Amsterdam:20211115T200000
DTEND;TZID=Europe/Amsterdam:20211115T220000
DTSTAMP:20211108T162241Z
URL:https://ehbokockengen.nl/wp/?event=maandag15-november-oefenen-met-meer
 dere-slachtoffers
SUMMARY:Oefenen met meerdere slachtoffers
DESCRIPTION:
CATEGORIES:Herhalingslessen EHBO
LOCATION:Brandweerkazerne\, Sportweg 1A\, Kockengen\, 3628 AZ\, Nederland
X-APPLE-STRUCTURED-LOCATION;VALUE=URI;X-ADDRESS=Sportweg 1A\, Kockengen\, 3
 628 AZ\, Nederland;X-APPLE-RADIUS=100;X-TITLE=Brandweerkazerne:geo:0,0
END:VEVENT
BEGIN:VEVENT
UID:2@ehbokockengen.nl
DTSTART;TZID=Europe/Amsterdam:20211129T200000
DTEND;TZID=Europe/Amsterdam:20211129T220000
DTSTAMP:20211108T164536Z
URL:https://ehbokockengen.nl/wp/?event=maandag29-november-bloedingen-shock
SUMMARY:Bloedingen / shock
DESCRIPTION:
CATEGORIES:Herhalingslessen EHBO
LOCATION:Brandweerkazerne\, Sportweg 1A\, Kockengen\, 3628 AZ\, Nederland
X-APPLE-STRUCTURED-LOCATION;VALUE=URI;X-ADDRESS=Sportweg 1A\, Kockengen\, 3
 628 AZ\, Nederland;X-APPLE-RADIUS=100;X-TITLE=Brandweerkazerne:geo:0,0
END:VEVENT
BEGIN:VEVENT
UID:3@ehbokockengen.nl
DTSTART;TZID=Europe/Amsterdam:20211213T200000
DTEND;TZID=Europe/Amsterdam:20211213T220000
DTSTAMP:20211108T164815Z
URL:https://ehbokockengen.nl/wp/?event=maandag13-december-eerste-hulp-bij-
 evenementen
SUMMARY:Eerste hulp bij evenementen
DESCRIPTION:
CATEGORIES:Herhalingslessen EHBO
LOCATION:Brandweerkazerne\, Sportweg 1A\, Kockengen\, 3628 AZ\, Nederland
X-APPLE-STRUCTURED-LOCATION;VALUE=URI;X-ADDRESS=Sportweg 1A\, Kockengen\, 3
 628 AZ\, Nederland;X-APPLE-RADIUS=100;X-TITLE=Brandweerkazerne:geo:0,0
END:VEVENT
BEGIN:VEVENT
UID:6@ehbokockengen.nl
DTSTART;TZID=Europe/Amsterdam:20220110T200000
DTEND;TZID=Europe/Amsterdam:20220110T220000
DTSTAMP:20211108T162738Z
URL:https://ehbokockengen.nl/wp/?event=maandag10-januari-reanimatie-2
SUMMARY:Reanimatie
DESCRIPTION:
CATEGORIES:Herhalingslessen EHBO
LOCATION:Brandweerkazerne\, Sportweg 1A\, Kockengen\, 3628 AZ\, Nederland
X-APPLE-STRUCTURED-LOCATION;VALUE=URI;X-ADDRESS=Sportweg 1A\, Kockengen\, 3
 628 AZ\, Nederland;X-APPLE-RADIUS=100;X-TITLE=Brandweerkazerne:geo:0,0
END:VEVENT
BEGIN:VEVENT
UID:5@ehbokockengen.nl
DTSTART;TZID=Europe/Amsterdam:20220124T200000
DTEND;TZID=Europe/Amsterdam:20220124T220000
DTSTAMP:20211108T162804Z
URL:https://ehbokockengen.nl/wp/?event=maandag24-januari-eerste-hulp-aan-k
 inderen
SUMMARY:Eerste Hulp Aan Kinderen
DESCRIPTION:
CATEGORIES:Herhalingslessen EHBO
LOCATION:Brandweerkazerne\, Sportweg 1A\, Kockengen\, 3628 AZ\, Nederland
X-APPLE-STRUCTURED-LOCATION;VALUE=URI;X-ADDRESS=Sportweg 1A\, Kockengen\, 3
 628 AZ\, Nederland;X-APPLE-RADIUS=100;X-TITLE=Brandweerkazerne:geo:0,0
END:VEVENT
BEGIN:VEVENT
UID:7@ehbokockengen.nl
DTSTART;TZID=Europe/Amsterdam:20220207T200000
DTEND;TZID=Europe/Amsterdam:20220207T220000
DTSTAMP:20211108T162826Z
URL:https://ehbokockengen.nl/wp/?event=maandag7-februari-onderkoeling-uitp
 utting
SUMMARY:Onderkoeling\, uitputting
DESCRIPTION:
CATEGORIES:Herhalingslessen EHBO
LOCATION:Brandweerkazerne\, Sportweg 1A\, Kockengen\, 3628 AZ\, Nederland
X-APPLE-STRUCTURED-LOCATION;VALUE=URI;X-ADDRESS=Sportweg 1A\, Kockengen\, 3
 628 AZ\, Nederland;X-APPLE-RADIUS=100;X-TITLE=Brandweerkazerne:geo:0,0
END:VEVENT
BEGIN:VEVENT
UID:8@ehbokockengen.nl
DTSTART;TZID=Europe/Amsterdam:20220221T200000
DTEND;TZID=Europe/Amsterdam:20220221T220000
DTSTAMP:20211108T162846Z
URL:https://ehbokockengen.nl/wp/?event=maandag21-februari-kahoot-spelprogr
 amma
SUMMARY:Kahoot (spelprogramma)
DESCRIPTION:
CATEGORIES:Herhalingslessen EHBO
LOCATION:Brandweerkazerne\, Sportweg 1A\, Kockengen\, 3628 AZ\, Nederland
X-APPLE-STRUCTURED-LOCATION;VALUE=URI;X-ADDRESS=Sportweg 1A\, Kockengen\, 3
 628 AZ\, Nederland;X-APPLE-RADIUS=100;X-TITLE=Brandweerkazerne:geo:0,0
END:VEVENT
BEGIN:VEVENT
UID:9@ehbokockengen.nl
DTSTART;TZID=Europe/Amsterdam:20220307T200000
DTEND;TZID=Europe/Amsterdam:20220307T220000
DTSTAMP:20211108T162910Z
URL:https://ehbokockengen.nl/wp/?event=maandag7-maart-verzoeknummers
SUMMARY:Verzoeknummers
DESCRIPTION:
CATEGORIES:Herhalingslessen EHBO
LOCATION:Brandweerkazerne\, Sportweg 1A\, Kockengen\, 3628 AZ\, Nederland
X-APPLE-STRUCTURED-LOCATION;VALUE=URI;X-ADDRESS=Sportweg 1A\, Kockengen\, 3
 628 AZ\, Nederland;X-APPLE-RADIUS=100;X-TITLE=Brandweerkazerne:geo:0,0
END:VEVENT
BEGIN:VEVENT
UID:10@ehbokockengen.nl
DTSTART;TZID=Europe/Amsterdam:20220321T200000
DTEND;TZID=Europe/Amsterdam:20220321T220000
DTSTAMP:20211108T162937Z
URL:https://ehbokockengen.nl/wp/?event=maandag-21-maart-2022-jaarvergaderi
 ng
SUMMARY:Jaarvergadering
DESCRIPTION:Na afloop sjoelcompetitie!
CATEGORIES:Vergaderingen
LOCATION:Brandweerkazerne\, Sportweg 1A\, Kockengen\, 3628 AZ\, Nederland
X-APPLE-STRUCTURED-LOCATION;VALUE=URI;X-ADDRESS=Sportweg 1A\, Kockengen\, 3
 628 AZ\, Nederland;X-APPLE-RADIUS=100;X-TITLE=Brandweerkazerne:geo:0,0
END:VEVENT
BEGIN:VEVENT
UID:15@ehbokockengen.nl
DTSTART;TZID=Europe/Amsterdam:20220926T200000
DTEND;TZID=Europe/Amsterdam:20220926T220000
DTSTAMP:20220917T160720Z
URL:https://ehbokockengen.nl/wp/?event=stabiele-zijligging
SUMMARY:Stabiele zijligging
DESCRIPTION:
CATEGORIES:Herhalingslessen EHBO
LOCATION:Brandweerkazerne\, Sportweg 1A\, Kockengen\, 3628 AZ\, Nederland
X-APPLE-STRUCTURED-LOCATION;VALUE=URI;X-ADDRESS=Sportweg 1A\, Kockengen\, 3
 628 AZ\, Nederland;X-APPLE-RADIUS=100;X-TITLE=Brandweerkazerne:geo:0,0
END:VEVENT
BEGIN:VEVENT
UID:16@ehbokockengen.nl
DTSTART;TZID=Europe/Amsterdam:20221003T200000
DTEND;TZID=Europe/Amsterdam:20221003T220000
DTSTAMP:20220917T160812Z
URL:https://ehbokockengen.nl/wp/?event=reanimatie-2
SUMMARY:Reanimatie
DESCRIPTION:
CATEGORIES:Herhalingslessen EHBO
LOCATION:Brandweerkazerne\, Sportweg 1A\, Kockengen\, 3628 AZ\, Nederland
X-APPLE-STRUCTURED-LOCATION;VALUE=URI;X-ADDRESS=Sportweg 1A\, Kockengen\, 3
 628 AZ\, Nederland;X-APPLE-RADIUS=100;X-TITLE=Brandweerkazerne:geo:0,0
END:VEVENT
BEGIN:VEVENT
UID:17@ehbokockengen.nl
DTSTART;TZID=Europe/Amsterdam:20221017T200000
DTEND;TZID=Europe/Amsterdam:20221017T220000
DTSTAMP:20220917T160854Z
URL:https://ehbokockengen.nl/wp/?event=verbandmaterialen-herkennen
SUMMARY:Verbandmaterialen herkennen
DESCRIPTION:
CATEGORIES:Herhalingslessen EHBO
LOCATION:Brandweerkazerne\, Sportweg 1A\, Kockengen\, 3628 AZ\, Nederland
X-APPLE-STRUCTURED-LOCATION;VALUE=URI;X-ADDRESS=Sportweg 1A\, Kockengen\, 3
 628 AZ\, Nederland;X-APPLE-RADIUS=100;X-TITLE=Brandweerkazerne:geo:0,0
END:VEVENT
BEGIN:VEVENT
UID:18@ehbokockengen.nl
DTSTART;TZID=Europe/Amsterdam:20221031T200000
DTEND;TZID=Europe/Amsterdam:20221031T220000
DTSTAMP:20220917T160941Z
URL:https://ehbokockengen.nl/wp/?event=stoornissen-in-het-bewustzijn
SUMMARY:Stoornissen in het bewustzijn
DESCRIPTION:
CATEGORIES:Herhalingslessen EHBO
LOCATION:Brandweerkazerne\, Sportweg 1A\, Kockengen\, 3628 AZ\, Nederland
X-APPLE-STRUCTURED-LOCATION;VALUE=URI;X-ADDRESS=Sportweg 1A\, Kockengen\, 3
 628 AZ\, Nederland;X-APPLE-RADIUS=100;X-TITLE=Brandweerkazerne:geo:0,0
END:VEVENT
BEGIN:VEVENT
UID:19@ehbokockengen.nl
DTSTART;TZID=Europe/Amsterdam:20221114T200000
DTEND;TZID=Europe/Amsterdam:20221114T220000
DTSTAMP:20220917T161019Z
URL:https://ehbokockengen.nl/wp/?event=brandwonden-letsels-door-kou-en-war
 mte
SUMMARY:Brandwonden\, letsels door kou en warmte
DESCRIPTION:
CATEGORIES:Herhalingslessen EHBO
LOCATION:Brandweerkazerne\, Sportweg 1A\, Kockengen\, 3628 AZ\, Nederland
X-APPLE-STRUCTURED-LOCATION;VALUE=URI;X-ADDRESS=Sportweg 1A\, Kockengen\, 3
 628 AZ\, Nederland;X-APPLE-RADIUS=100;X-TITLE=Brandweerkazerne:geo:0,0
END:VEVENT
BEGIN:VEVENT
UID:20@ehbokockengen.nl
DTSTART;TZID=Europe/Amsterdam:20221128T200000
DTEND;TZID=Europe/Amsterdam:20221128T220000
DTSTAMP:20220917T161046Z
URL:https://ehbokockengen.nl/wp/?event=ziektebeelden
SUMMARY:Ziektebeelden
DESCRIPTION:
CATEGORIES:Herhalingslessen EHBO
LOCATION:Brandweerkazerne\, Sportweg 1A\, Kockengen\, 3628 AZ\, Nederland
X-APPLE-STRUCTURED-LOCATION;VALUE=URI;X-ADDRESS=Sportweg 1A\, Kockengen\, 3
 628 AZ\, Nederland;X-APPLE-RADIUS=100;X-TITLE=Brandweerkazerne:geo:0,0
END:VEVENT
BEGIN:VEVENT
UID:21@ehbokockengen.nl
DTSTART;TZID=Europe/Amsterdam:20221212T200000
DTEND;TZID=Europe/Amsterdam:20221212T220000
DTSTAMP:20220917T161126Z
URL:https://ehbokockengen.nl/wp/?event=actieve-bloedingen
SUMMARY:Actieve bloedingen
DESCRIPTION:
CATEGORIES:Herhalingslessen EHBO
LOCATION:Brandweerkazerne\, Sportweg 1A\, Kockengen\, 3628 AZ\, Nederland
X-APPLE-STRUCTURED-LOCATION;VALUE=URI;X-ADDRESS=Sportweg 1A\, Kockengen\, 3
 628 AZ\, Nederland;X-APPLE-RADIUS=100;X-TITLE=Brandweerkazerne:geo:0,0
END:VEVENT
BEGIN:VEVENT
UID:29@ehbokockengen.nl
DTSTART;TZID=Europe/Amsterdam:20221213T193000
DTEND;TZID=Europe/Amsterdam:20221213T220000
DTSTAMP:20221115T113537Z
URL:https://ehbokockengen.nl/wp/?event=reanimatiecursus-dinsdagavond-13-de
 cember-2022
SUMMARY:Reanimatiecursus dinsdagavond 13 december 2022
DESCRIPTION:&gt\;&gt\;&gt\; naar aanmeldformulier &gt\;&gt\;&gt\;
CATEGORIES:Cursussen
END:VEVENT
BEGIN:VEVENT
UID:31@ehbokockengen.nl
DTSTART;TZID=Europe/Amsterdam:20221215T193000
DTEND;TZID=Europe/Amsterdam:20221215T220000
DTSTAMP:20221115T113803Z
URL:https://ehbokockengen.nl/wp/?event=reanimatiecursus-donderdagavond-15-
 december-2022
SUMMARY:Reanimatiecursus donderdagavond 15 december 2022
DESCRIPTION:&gt\;&gt\;&gt\; naar aanmeldformulier &gt\;&gt\;&gt\;
CATEGORIES:Cursussen
END:VEVENT
BEGIN:VEVENT
UID:22@ehbokockengen.nl
DTSTART;TZID=Europe/Amsterdam:20230109T200000
DTEND;TZID=Europe/Amsterdam:20230109T220000
DTSTAMP:20220917T161228Z
URL:https://ehbokockengen.nl/wp/?event=eerste-hulp-aan-kinderen
SUMMARY:Eerste hulp aan kinderen
DESCRIPTION:
CATEGORIES:Herhalingslessen EHBO
LOCATION:Brandweerkazerne\, Sportweg 1A\, Kockengen\, 3628 AZ\, Nederland
X-APPLE-STRUCTURED-LOCATION;VALUE=URI;X-ADDRESS=Sportweg 1A\, Kockengen\, 3
 628 AZ\, Nederland;X-APPLE-RADIUS=100;X-TITLE=Brandweerkazerne:geo:0,0
END:VEVENT
BEGIN:VEVENT
UID:25@ehbokockengen.nl
DTSTART;TZID=Europe/Amsterdam:20230123T200000
DTEND;TZID=Europe/Amsterdam:20230123T220000
DTSTAMP:20220917T161559Z
URL:https://ehbokockengen.nl/wp/?event=reanimatie-4
SUMMARY:Reanimatie
DESCRIPTION:
CATEGORIES:Herhalingslessen EHBO
LOCATION:Brandweerkazerne\, Sportweg 1A\, Kockengen\, 3628 AZ\, Nederland
X-APPLE-STRUCTURED-LOCATION;VALUE=URI;X-ADDRESS=Sportweg 1A\, Kockengen\, 3
 628 AZ\, Nederland;X-APPLE-RADIUS=100;X-TITLE=Brandweerkazerne:geo:0,0
END:VEVENT
BEGIN:VEVENT
UID:23@ehbokockengen.nl
DTSTART;TZID=Europe/Amsterdam:20230206T200000
DTEND;TZID=Europe/Amsterdam:20230206T220000
DTSTAMP:20220917T161336Z
URL:https://ehbokockengen.nl/wp/?event=reanimatie-3
SUMMARY:Kleine letsels
DESCRIPTION:
CATEGORIES:Herhalingslessen EHBO
LOCATION:Brandweerkazerne\, Sportweg 1A\, Kockengen\, 3628 AZ\, Nederland
X-APPLE-STRUCTURED-LOCATION;VALUE=URI;X-ADDRESS=Sportweg 1A\, Kockengen\, 3
 628 AZ\, Nederland;X-APPLE-RADIUS=100;X-TITLE=Brandweerkazerne:geo:0,0
END:VEVENT
BEGIN:VEVENT
UID:26@ehbokockengen.nl
DTSTART;TZID=Europe/Amsterdam:20230220T200000
DTEND;TZID=Europe/Amsterdam:20230220T220000
DTSTAMP:20220917T161705Z
URL:https://ehbokockengen.nl/wp/?event=les-met-lotus-slachtoffers-2
SUMMARY:Les met LOTUS slachtoffers
DESCRIPTION:
CATEGORIES:Herhalingslessen EHBO
LOCATION:Brandweerkazerne\, Sportweg 1A\, Kockengen\, 3628 AZ\, Nederland
X-APPLE-STRUCTURED-LOCATION;VALUE=URI;X-ADDRESS=Sportweg 1A\, Kockengen\, 3
 628 AZ\, Nederland;X-APPLE-RADIUS=100;X-TITLE=Brandweerkazerne:geo:0,0
END:VEVENT
BEGIN:VEVENT
UID:27@ehbokockengen.nl
DTSTART;TZID=Europe/Amsterdam:20230306T200000
DTEND;TZID=Europe/Amsterdam:20230306T220000
DTSTAMP:20220917T161746Z
URL:https://ehbokockengen.nl/wp/?event=grabbelton
SUMMARY:Grabbelton
DESCRIPTION:
CATEGORIES:Herhalingslessen EHBO
LOCATION:Brandweerkazerne\, Sportweg 1A\, Kockengen\, 3628 AZ\, Nederland
X-APPLE-STRUCTURED-LOCATION;VALUE=URI;X-ADDRESS=Sportweg 1A\, Kockengen\, 3
 628 AZ\, Nederland;X-APPLE-RADIUS=100;X-TITLE=Brandweerkazerne:geo:0,0
END:VEVENT
BEGIN:VEVENT
UID:24@ehbokockengen.nl
DTSTART;TZID=Europe/Amsterdam:20230320T200000
DTEND;TZID=Europe/Amsterdam:20230320T220000
DTSTAMP:20220917T161504Z
URL:https://ehbokockengen.nl/wp/?event=les-met-lotus-slachtoffers
SUMMARY:Sportletsels
DESCRIPTION:
CATEGORIES:Herhalingslessen EHBO
LOCATION:Brandweerkazerne\, Sportweg 1A\, Kockengen\, 3628 AZ\, Nederland
X-APPLE-STRUCTURED-LOCATION;VALUE=URI;X-ADDRESS=Sportweg 1A\, Kockengen\, 3
 628 AZ\, Nederland;X-APPLE-RADIUS=100;X-TITLE=Brandweerkazerne:geo:0,0
END:VEVENT
BEGIN:VEVENT
UID:28@ehbokockengen.nl
DTSTART;TZID=Europe/Amsterdam:20230327T200000
DTEND;TZID=Europe/Amsterdam:20230327T220000
DTSTAMP:20220917T161830Z
URL:https://ehbokockengen.nl/wp/?event=ledenvergadering
SUMMARY:Ledenvergadering
DESCRIPTION:
CATEGORIES:Vergaderingen
LOCATION:Brandweerkazerne\, Sportweg 1A\, Kockengen\, 3628 AZ\, Nederland
X-APPLE-STRUCTURED-LOCATION;VALUE=URI;X-ADDRESS=Sportweg 1A\, Kockengen\, 3
 628 AZ\, Nederland;X-APPLE-RADIUS=100;X-TITLE=Brandweerkazerne:geo:0,0
END:VEVENT
BEGIN:VEVENT
UID:32@ehbokockengen.nl
DTSTART;TZID=Europe/Amsterdam:20240916T200000
DTEND;TZID=Europe/Amsterdam:20240916T220000
DTSTAMP:20240915T203228Z
URL:https://ehbokockengen.nl/wp/?event=bewustzijn-en-ademhaling
SUMMARY:Bewustzijn en ademhaling
DESCRIPTION:(gastdocent)
CATEGORIES:Herhalingslessen EHBO
LOCATION:Brandweerkazerne\, Sportweg 1A\, Kockengen\, 3628 AZ\, Nederland
X-APPLE-STRUCTURED-LOCATION;VALUE=URI;X-ADDRESS=Sportweg 1A\, Kockengen\, 3
 628 AZ\, Nederland;X-APPLE-RADIUS=100;X-TITLE=Brandweerkazerne:geo:0,0
END:VEVENT
BEGIN:VEVENT
UID:33@ehbokockengen.nl
DTSTART;TZID=Europe/Amsterdam:20240930T200000
DTEND;TZID=Europe/Amsterdam:20240930T220000
DTSTAMP:20240915T204608Z
URL:https://ehbokockengen.nl/wp/?event=verbandleer-2
SUMMARY:Verbandleer
DESCRIPTION:(Gastdocent)
CATEGORIES:Herhalingslessen EHBO
LOCATION:Brandweerkazerne\, Sportweg 1A\, Kockengen\, 3628 AZ\, Nederland
X-APPLE-STRUCTURED-LOCATION;VALUE=URI;X-ADDRESS=Sportweg 1A\, Kockengen\, 3
 628 AZ\, Nederland;X-APPLE-RADIUS=100;X-TITLE=Brandweerkazerne:geo:0,0
END:VEVENT
BEGIN:VEVENT
UID:34@ehbokockengen.nl
DTSTART;TZID=Europe/Amsterdam:20241014T200000
DTEND;TZID=Europe/Amsterdam:20241014T220000
DTSTAMP:20240915T203341Z
URL:https://ehbokockengen.nl/wp/?event=reanimatie-5
SUMMARY:Reanimatie
DESCRIPTION:
CATEGORIES:Herhalingslessen EHBO
LOCATION:Brandweerkazerne\, Sportweg 1A\, Kockengen\, 3628 AZ\, Nederland
X-APPLE-STRUCTURED-LOCATION;VALUE=URI;X-ADDRESS=Sportweg 1A\, Kockengen\, 3
 628 AZ\, Nederland;X-APPLE-RADIUS=100;X-TITLE=Brandweerkazerne:geo:0,0
END:VEVENT
BEGIN:VEVENT
UID:35@ehbokockengen.nl
DTSTART;TZID=Europe/Amsterdam:20241028T200000
DTEND;TZID=Europe/Amsterdam:20241028T220000
DTSTAMP:20240915T203431Z
URL:https://ehbokockengen.nl/wp/?event=les-met-lotus
SUMMARY:Les met LOTUS
DESCRIPTION:
CATEGORIES:Herhalingslessen EHBO
LOCATION:Brandweerkazerne\, Sportweg 1A\, Kockengen\, 3628 AZ\, Nederland
X-APPLE-STRUCTURED-LOCATION;VALUE=URI;X-ADDRESS=Sportweg 1A\, Kockengen\, 3
 628 AZ\, Nederland;X-APPLE-RADIUS=100;X-TITLE=Brandweerkazerne:geo:0,0
END:VEVENT
BEGIN:VEVENT
UID:36@ehbokockengen.nl
DTSTART;TZID=Europe/Amsterdam:20241111T200000
DTEND;TZID=Europe/Amsterdam:20241111T220000
DTSTAMP:20240915T203540Z
URL:https://ehbokockengen.nl/wp/?event=ziektebeelden-2
SUMMARY:Ziektebeelden
DESCRIPTION:
CATEGORIES:Herhalingslessen EHBO
LOCATION:Brandweerkazerne\, Sportweg 1A\, Kockengen\, 3628 AZ\, Nederland
X-APPLE-STRUCTURED-LOCATION;VALUE=URI;X-ADDRESS=Sportweg 1A\, Kockengen\, 3
 628 AZ\, Nederland;X-APPLE-RADIUS=100;X-TITLE=Brandweerkazerne:geo:0,0
END:VEVENT
BEGIN:VEVENT
UID:37@ehbokockengen.nl
DTSTART;TZID=Europe/Amsterdam:20241125T200000
DTEND;TZID=Europe/Amsterdam:20241125T220000
DTSTAMP:20240915T203634Z
URL:https://ehbokockengen.nl/wp/?event=onderkoeling-oververhitting
SUMMARY:Onderkoeling/oververhitting
DESCRIPTION:
CATEGORIES:Herhalingslessen EHBO
LOCATION:Brandweerkazerne\, Sportweg 1A\, Kockengen\, 3628 AZ\, Nederland
X-APPLE-STRUCTURED-LOCATION;VALUE=URI;X-ADDRESS=Sportweg 1A\, Kockengen\, 3
 628 AZ\, Nederland;X-APPLE-RADIUS=100;X-TITLE=Brandweerkazerne:geo:0,0
END:VEVENT
BEGIN:VEVENT
UID:38@ehbokockengen.nl
DTSTART;TZID=Europe/Amsterdam:20241209T200000
DTEND;TZID=Europe/Amsterdam:20241209T220000
DTSTAMP:20240915T203721Z
URL:https://ehbokockengen.nl/wp/?event=vergiftigingen
SUMMARY:Vergiftigingen
DESCRIPTION:
CATEGORIES:Herhalingslessen EHBO
LOCATION:Brandweerkazerne\, Sportweg 1A\, Kockengen\, 3628 AZ\, Nederland
X-APPLE-STRUCTURED-LOCATION;VALUE=URI;X-ADDRESS=Sportweg 1A\, Kockengen\, 3
 628 AZ\, Nederland;X-APPLE-RADIUS=100;X-TITLE=Brandweerkazerne:geo:0,0
END:VEVENT
BEGIN:VEVENT
UID:39@ehbokockengen.nl
DTSTART;TZID=Europe/Amsterdam:20250106T200000
DTEND;TZID=Europe/Amsterdam:20250106T220000
DTSTAMP:20240915T203827Z
URL:https://ehbokockengen.nl/wp/?event=ernstige-bloedingen-shock
SUMMARY:Ernstige bloedingen/shock
DESCRIPTION:
CATEGORIES:Herhalingslessen EHBO
LOCATION:Brandweerkazerne\, Sportweg 1A\, Kockengen\, 3628 AZ\, Nederland
X-APPLE-STRUCTURED-LOCATION;VALUE=URI;X-ADDRESS=Sportweg 1A\, Kockengen\, 3
 628 AZ\, Nederland;X-APPLE-RADIUS=100;X-TITLE=Brandweerkazerne:geo:0,0
END:VEVENT
BEGIN:VEVENT
UID:40@ehbokockengen.nl
DTSTART;TZID=Europe/Amsterdam:20250120T200000
DTEND;TZID=Europe/Amsterdam:20250120T220000
DTSTAMP:20240915T203918Z
URL:https://ehbokockengen.nl/wp/?event=botbreuken-en-ontwrichtingen
SUMMARY:Botbreuken en ontwrichtingen
DESCRIPTION:
CATEGORIES:Herhalingslessen EHBO
LOCATION:Brandweerkazerne\, Sportweg 1A\, Kockengen\, 3628 AZ\, Nederland
X-APPLE-STRUCTURED-LOCATION;VALUE=URI;X-ADDRESS=Sportweg 1A\, Kockengen\, 3
 628 AZ\, Nederland;X-APPLE-RADIUS=100;X-TITLE=Brandweerkazerne:geo:0,0
END:VEVENT
BEGIN:VEVENT
UID:43@ehbokockengen.nl
DTSTART;TZID=Europe/Amsterdam:20250203T200000
DTEND;TZID=Europe/Amsterdam:20250203T220000
DTSTAMP:20240915T210452Z
URL:https://ehbokockengen.nl/wp/?event=reanimatie-6
SUMMARY:Reanimatie
DESCRIPTION:
CATEGORIES:Herhalingslessen EHBO
LOCATION:Brandweerkazerne\, Sportweg 1A\, Kockengen\, 3628 AZ\, Nederland
X-APPLE-STRUCTURED-LOCATION;VALUE=URI;X-ADDRESS=Sportweg 1A\, Kockengen\, 3
 628 AZ\, Nederland;X-APPLE-RADIUS=100;X-TITLE=Brandweerkazerne:geo:0,0
END:VEVENT
BEGIN:VEVENT
UID:44@ehbokockengen.nl
DTSTART;TZID=Europe/Amsterdam:20250217T200000
DTEND;TZID=Europe/Amsterdam:20250217T220000
DTSTAMP:20240915T210527Z
URL:https://ehbokockengen.nl/wp/?event=les-met-lotus-2
SUMMARY:Les met LOTUS
DESCRIPTION:
CATEGORIES:Herhalingslessen EHBO
LOCATION:Brandweerkazerne\, Sportweg 1A\, Kockengen\, 3628 AZ\, Nederland
X-APPLE-STRUCTURED-LOCATION;VALUE=URI;X-ADDRESS=Sportweg 1A\, Kockengen\, 3
 628 AZ\, Nederland;X-APPLE-RADIUS=100;X-TITLE=Brandweerkazerne:geo:0,0
END:VEVENT
BEGIN:VEVENT
UID:41@ehbokockengen.nl
DTSTART;TZID=Europe/Amsterdam:20250303T200000
DTEND;TZID=Europe/Amsterdam:20250303T220000
DTSTAMP:20240915T204010Z
URL:https://ehbokockengen.nl/wp/?event=eerste-hulp-aan-kinderen-2
SUMMARY:Eerste Hulp Aan Kinderen
DESCRIPTION:
CATEGORIES:Herhalingslessen EHBO
LOCATION:Brandweerkazerne\, Sportweg 1A\, Kockengen\, 3628 AZ\, Nederland
X-APPLE-STRUCTURED-LOCATION;VALUE=URI;X-ADDRESS=Sportweg 1A\, Kockengen\, 3
 628 AZ\, Nederland;X-APPLE-RADIUS=100;X-TITLE=Brandweerkazerne:geo:0,0
END:VEVENT
BEGIN:VEVENT
UID:42@ehbokockengen.nl
DTSTART;TZID=Europe/Amsterdam:20250317T200000
DTEND;TZID=Europe/Amsterdam:20250317T220000
DTSTAMP:20240915T204059Z
URL:https://ehbokockengen.nl/wp/?event=ledenvergadering-2
SUMMARY:Ledenvergadering
DESCRIPTION:
CATEGORIES:Vergaderingen
LOCATION:Brandweerkazerne\, Sportweg 1A\, Kockengen\, 3628 AZ\, Nederland
X-APPLE-STRUCTURED-LOCATION;VALUE=URI;X-ADDRESS=Sportweg 1A\, Kockengen\, 3
 628 AZ\, Nederland;X-APPLE-RADIUS=100;X-TITLE=Brandweerkazerne:geo:0,0
END:VEVENT
BEGIN:VTIMEZONE
TZID:Europe/Amsterdam
X-LIC-LOCATION:Europe/Amsterdam
BEGIN:DAYLIGHT
DTSTART:20210328T030000
TZOFFSETFROM:+0100
TZOFFSETTO:+0200
TZNAME:CEST
END:DAYLIGHT
BEGIN:STANDARD
DTSTART:20211031T020000
TZOFFSETFROM:+0200
TZOFFSETTO:+0100
TZNAME:CET
END:STANDARD
BEGIN:DAYLIGHT
DTSTART:20220327T030000
TZOFFSETFROM:+0100
TZOFFSETTO:+0200
TZNAME:CEST
END:DAYLIGHT
BEGIN:STANDARD
DTSTART:20221030T020000
TZOFFSETFROM:+0200
TZOFFSETTO:+0100
TZNAME:CET
END:STANDARD
BEGIN:DAYLIGHT
DTSTART:20230326T030000
TZOFFSETFROM:+0100
TZOFFSETTO:+0200
TZNAME:CEST
END:DAYLIGHT
BEGIN:STANDARD
DTSTART:20231029T020000
TZOFFSETFROM:+0200
TZOFFSETTO:+0100
TZNAME:CET
END:STANDARD
BEGIN:DAYLIGHT
DTSTART:20240331T030000
TZOFFSETFROM:+0100
TZOFFSETTO:+0200
TZNAME:CEST
END:DAYLIGHT
BEGIN:STANDARD
DTSTART:20241027T020000
TZOFFSETFROM:+0200
TZOFFSETTO:+0100
TZNAME:CET
END:STANDARD
END:VTIMEZONE
END:VCALENDAR